BEGIN:VCALENDAR
VERSION:2.0
PRODID:-//Texas Education Research Center - ECPv6.15.3//NONSGML v1.0//EN
CALSCALE:GREGORIAN
METHOD:PUBLISH
X-ORIGINAL-URL:https://texaserc.utexas.edu
X-WR-CALDESC:Events for Texas Education Research Center
REFRESH-INTERVAL;VALUE=DURATION:PT1H
X-Robots-Tag:noindex
X-PUBLISHED-TTL:PT1H
BEGIN:VTIMEZONE
TZID:UTC
BEGIN:STANDARD
TZOFFSETFROM:+0000
TZOFFSETTO:+0000
TZNAME:UTC
DTSTART:20260101T000000
END:STANDARD
END:VTIMEZONE
BEGIN:VEVENT
DTSTART;TZID=UTC:20260508T080000
DTEND;TZID=UTC:20260508T170000
DTSTAMP:20260418T051020
CREATED:20260417T135950Z
LAST-MODIFIED:20260417T140118Z
UID:4891-1778227200-1778259600@texaserc.utexas.edu
SUMMARY:Deadline for New Project Proposals and Project Extensions for March Meeting – Friday\, May 8\, 2026 by 5:00 PM
DESCRIPTION:Deadline for <a href=”https://utexas.qualtrics.com/jfe/form/SV_0rDjuQex71oY5TM”>New Project Proposals and Project Extensions</a> for March Meeting – Friday\, May 8\, 2026 by 5:00 PM
URL:https://texaserc.utexas.edu/event/deadline-for-new-project-proposals-and-project-extensions-for-march-meeting-friday-may-8-2026-by-500-pm/
CATEGORIES:Deadline
END:VEVENT
END:VCALENDAR